BEGIN:VCALENDAR
VERSION:2.0
PRODID:-//Mecaloire - ECPv6.15.20//NONSGML v1.0//EN
CALSCALE:GREGORIAN
METHOD:PUBLISH
X-WR-CALNAME:Mecaloire
X-ORIGINAL-URL:https://www.mecaloire.fr
X-WR-CALDESC:Évènements pour Mecaloire
REFRESH-INTERVAL;VALUE=DURATION:PT1H
X-Robots-Tag:noindex
X-PUBLISHED-TTL:PT1H
BEGIN:VTIMEZONE
TZID:Europe/Paris
BEGIN:DAYLIGHT
TZOFFSETFROM:+0100
TZOFFSETTO:+0200
TZNAME:CEST
DTSTART:20250330T010000
END:DAYLIGHT
BEGIN:STANDARD
TZOFFSETFROM:+0200
TZOFFSETTO:+0100
TZNAME:CET
DTSTART:20251026T010000
END:STANDARD
BEGIN:DAYLIGHT
TZOFFSETFROM:+0100
TZOFFSETTO:+0200
TZNAME:CEST
DTSTART:20260329T010000
END:DAYLIGHT
BEGIN:STANDARD
TZOFFSETFROM:+0200
TZOFFSETTO:+0100
TZNAME:CET
DTSTART:20261025T010000
END:STANDARD
BEGIN:DAYLIGHT
TZOFFSETFROM:+0100
TZOFFSETTO:+0200
TZNAME:CEST
DTSTART:20270328T010000
END:DAYLIGHT
BEGIN:STANDARD
TZOFFSETFROM:+0200
TZOFFSETTO:+0100
TZNAME:CET
DTSTART:20271031T010000
END:STANDARD
END:VTIMEZONE
BEGIN:VEVENT
DTSTART;TZID=Europe/Paris:20260625T183000
DTEND;TZID=Europe/Paris:20260625T213000
DTSTAMP:20260425T155846
CREATED:20260211T144153Z
LAST-MODIFIED:20260311T100356Z
UID:17638-1782412200-1782423000@www.mecaloire.fr
SUMMARY:Assemblée générale de Mécaloire
DESCRIPTION:Lieu à venir. \nSur invitation.
URL:https://www.mecaloire.fr/event/assemblee-generale-de-mecaloire/
CATEGORIES:Événement
ATTACH;FMTTYPE=image/svg+xml:https://www.mecaloire.fr/wp-content/uploads/2024/05/mecaloire-icon.svg
END:VEVENT
END:VCALENDAR